BEGIN:VCALENDAR
VERSION:2.0
PRODID:-//www.ketchikanarts.org//NONSGML kigkonsult.se iCalcreator 2.30.10/
 /
CALSCALE:GREGORIAN
METHOD:PUBLISH
UID:e6211133-fcd3-4fcd-aa9d-3f2c3b797a74
X-WR-CALDESC:Singing rehearsal for the Singing Tree project.
X-WR-RELCALID:5b2be4eee9714f42fc159b7bfc5e492f
X-WR-TIMEZONE:America/Anchorage
BEGIN:VTIMEZONE
TZID:America/Anchorage
BEGIN:STANDARD
TZNAME:AKST
DTSTART:20231105T020000
TZOFFSETFROM:-0800
TZOFFSETTO:-0900
RDATE:20241103T020000
RDATE:20251102T020000
END:STANDARD
BEGIN:DAYLIGHT
TZNAME:AKDT
DTSTART:20240310T020000
TZOFFSETFROM:-0900
TZOFFSETTO:-0800
RDATE:20250309T020000
RDATE:20260308T020000
END:DAYLIGHT
END:VTIMEZONE
BEGIN:VEVENT
UID:d8a9e3aa-c223-4c52-a581-1911896f3e08
DTSTAMP:20260424T212532Z
DESCRIPTION:Singing rehearsal for the Singing Tree project.
DTSTART;TZID=America/Anchorage:20241024T190000
DTEND;TZID=America/Anchorage:20241024T200000
LOCATION:Presbyterian Church Basement
SUMMARY:Singing Tree Rehearsals
END:VEVENT
END:VCALENDAR
