BEGIN:VCALENDAR
VERSION:2.0
PRODID:-//www.ketchikanarts.org//NONSGML kigkonsult.se iCalcreator 2.30.10/
 /
CALSCALE:GREGORIAN
METHOD:PUBLISH
UID:8628fe19-db26-4744-a035-46fb5d0e8024
X-WR-CALDESC:
X-WR-RELCALID:93ff7262d9fa6a0a8e6126d56eca695f
X-WR-TIMEZONE:America/Anchorage
BEGIN:VTIMEZONE
TZID:America/Anchorage
BEGIN:STANDARD
TZNAME:AKST
DTSTART:20231105T020000
TZOFFSETFROM:-0800
TZOFFSETTO:-0900
RDATE:20241103T020000
RDATE:20251102T020000
END:STANDARD
BEGIN:DAYLIGHT
TZNAME:AKDT
DTSTART:20240310T020000
TZOFFSETFROM:-0900
TZOFFSETTO:-0800
RDATE:20250309T020000
RDATE:20260308T020000
END:DAYLIGHT
END:VTIMEZONE
BEGIN:VEVENT
UID:a4cccef1-9b83-4d37-b118-5069cada24cd
DTSTAMP:20260424T231427Z
DESCRIPTION:
DTSTART;TZID=America/Anchorage:20241019T190000
DTEND;TZID=America/Anchorage:20241019T210000
LOCATION:Sourdough Bar
SUMMARY:The Red Lantern Burlesque Show & Adult Boutique presents: 'Creature
 s of the Night'
END:VEVENT
END:VCALENDAR
