BEGIN:VCALENDAR
VERSION:2.0
PRODID:-//www.ketchikanarts.org//NONSGML kigkonsult.se iCalcreator 2.30.10/
 /
CALSCALE:GREGORIAN
METHOD:PUBLISH
UID:4dacef9e-469d-4617-b916-7b47c0b9b47d
X-WR-CALDESC:The Monthly Grind is a Fiscally Sponsored program of the Ketch
 ikan Area Arts and Humanities Council.
X-WR-RELCALID:2a62f0da05bced2d85e6bbcfbee57946
X-WR-TIMEZONE:America/Anchorage
BEGIN:VTIMEZONE
TZID:America/Anchorage
BEGIN:STANDARD
TZNAME:AKST
DTSTART:20231105T020000
TZOFFSETFROM:-0800
TZOFFSETTO:-0900
RDATE:20241103T020000
RDATE:20251102T020000
END:STANDARD
BEGIN:DAYLIGHT
TZNAME:AKDT
DTSTART:20240310T020000
TZOFFSETFROM:-0900
TZOFFSETTO:-0800
RDATE:20250309T020000
RDATE:20260308T020000
END:DAYLIGHT
END:VTIMEZONE
BEGIN:VEVENT
UID:0ad12322-10dc-41dc-b5b4-70a4cd5d4d08
DTSTAMP:20260424T211655Z
DESCRIPTION:The Monthly Grind is a Fiscally Sponsored program of the Ketchi
 kan Area Arts and Humanities Council.
DTSTART;TZID=America/Anchorage:20241019T190000
DTEND;TZID=America/Anchorage:20241019T210000
LOCATION:Saxman Tribal House
SUMMARY:Monthly Grind!!!!
END:VEVENT
END:VCALENDAR
