BEGIN:VCALENDAR
VERSION:2.0
PRODID:-//www.ketchikanarts.org//NONSGML kigkonsult.se iCalcreator 2.30.10/
 /
CALSCALE:GREGORIAN
METHOD:PUBLISH
UID:5340c9da-6b0c-4599-93be-3a3445d5f2de
X-WR-CALDESC:
X-WR-RELCALID:c611a139474eb90f31b88921f87a4f20
X-WR-TIMEZONE:America/Anchorage
BEGIN:VTIMEZONE
TZID:America/Anchorage
BEGIN:STANDARD
TZNAME:AKST
DTSTART:20231105T020000
TZOFFSETFROM:-0800
TZOFFSETTO:-0900
RDATE:20241103T020000
RDATE:20251102T020000
END:STANDARD
BEGIN:DAYLIGHT
TZNAME:AKDT
DTSTART:20240310T020000
TZOFFSETFROM:-0900
TZOFFSETTO:-0800
RDATE:20250309T020000
RDATE:20260308T020000
END:DAYLIGHT
END:VTIMEZONE
BEGIN:VEVENT
UID:ec2e5606-e0e4-4986-b44f-606456374edc
DTSTAMP:20260424T230106Z
DESCRIPTION:
DTSTART;TZID=America/Anchorage:20241018T200000
DTEND;TZID=America/Anchorage:20241018T233000
LOCATION:The Arctic Bar
SUMMARY:Pop Up Pride Bar- Ketchikan Pride Alliance
END:VEVENT
END:VCALENDAR
