BEGIN:VCALENDAR
VERSION:2.0
PRODID:-//www.ketchikanarts.org//NONSGML kigkonsult.se iCalcreator 2.30.10/
 /
CALSCALE:GREGORIAN
METHOD:PUBLISH
UID:ab5c168e-9c87-40c0-a7de-ee10aee04775
X-WR-CALDESC:Help raise funds for Houghtaling Music Program and the Kayhi D
 rama Kings!!\n\nTickets $10/ kids  $20/Adults
X-WR-RELCALID:50279815097d8431ae00479eab5f3036
X-WR-TIMEZONE:America/Anchorage
BEGIN:VTIMEZONE
TZID:America/Anchorage
BEGIN:STANDARD
TZNAME:AKST
DTSTART:20231105T020000
TZOFFSETFROM:-0800
TZOFFSETTO:-0900
RDATE:20241103T020000
RDATE:20251102T020000
END:STANDARD
BEGIN:DAYLIGHT
TZNAME:AKDT
DTSTART:20240310T020000
TZOFFSETFROM:-0900
TZOFFSETTO:-0800
RDATE:20250309T020000
RDATE:20260308T020000
END:DAYLIGHT
END:VTIMEZONE
BEGIN:VEVENT
UID:866f664a-02cb-42e7-9b54-41e42f3dcc73
DTSTAMP:20260424T212849Z
DESCRIPTION:Help raise funds for Houghtaling Music Program and the Kayhi Dr
 ama Kings!!\n\nTickets $10/ kids  $20/Adults
DTSTART;TZID=America/Anchorage:20241018T190000
DTEND;TZID=America/Anchorage:20241018T230000
LOCATION:George Inlet Cannery
SUMMARY:'Fright Night' at the Cannery
END:VEVENT
END:VCALENDAR
