BEGIN:VCALENDAR
VERSION:2.0
PRODID:-//www.ketchikanarts.org//NONSGML kigkonsult.se iCalcreator 2.30.10/
 /
CALSCALE:GREGORIAN
METHOD:PUBLISH
UID:4629b43b-8403-46e3-8e8e-086550cb289f
X-WR-CALDESC:Open Mic available for all types of performance.
X-WR-RELCALID:534ce3cfa21a163708f25190d1d07b6e
X-WR-TIMEZONE:America/Anchorage
BEGIN:VTIMEZONE
TZID:America/Anchorage
BEGIN:STANDARD
TZNAME:AKST
DTSTART:20231105T020000
TZOFFSETFROM:-0800
TZOFFSETTO:-0900
RDATE:20241103T020000
RDATE:20251102T020000
END:STANDARD
BEGIN:DAYLIGHT
TZNAME:AKDT
DTSTART:20240310T020000
TZOFFSETFROM:-0900
TZOFFSETTO:-0800
RDATE:20250309T020000
RDATE:20260308T020000
END:DAYLIGHT
END:VTIMEZONE
BEGIN:VEVENT
UID:0bacac20-2826-49d9-9c18-d0590a6db20b
DTSTAMP:20260424T230004Z
DESCRIPTION:Open Mic available for all types of performance.
DTSTART;TZID=America/Anchorage:20241013T170000
DTEND;TZID=America/Anchorage:20241013T200000
LOCATION:3 Salmon Landing\, Ketchikan\, AK 99901 US
SUMMARY:Open Mic Fish House
END:VEVENT
END:VCALENDAR
