BEGIN:VCALENDAR
VERSION:2.0
PRODID:-//www.ketchikanarts.org//NONSGML kigkonsult.se iCalcreator 2.30.10/
 /
CALSCALE:GREGORIAN
METHOD:PUBLISH
UID:cfb329f0-9c2b-401b-84a1-293092c5f99d
X-WR-CALDESC:On Saturday October 12\, Christina will be teaching a class to
  make a Harmony and light quilt. Class is from 10:00 to 5:00pm with an hou
 r lunch. Cost is $80.
X-WR-RELCALID:f00d852ae106bae9ba048e97127efd2b
X-WR-TIMEZONE:America/Anchorage
BEGIN:VTIMEZONE
TZID:America/Anchorage
BEGIN:STANDARD
TZNAME:AKST
DTSTART:20231105T020000
TZOFFSETFROM:-0800
TZOFFSETTO:-0900
RDATE:20241103T020000
RDATE:20251102T020000
END:STANDARD
BEGIN:DAYLIGHT
TZNAME:AKDT
DTSTART:20240310T020000
TZOFFSETFROM:-0900
TZOFFSETTO:-0800
RDATE:20250309T020000
RDATE:20260308T020000
END:DAYLIGHT
END:VTIMEZONE
BEGIN:VEVENT
UID:8fd46e7b-682f-4943-ba92-00fa7f6a4cd8
DTSTAMP:20260424T211611Z
DESCRIPTION:On Saturday October 12\, Christina will be teaching a class to 
 make a Harmony and light quilt. Class is from 10:00 to 5:00pm with an hour
  lunch. Cost is $80.
DTSTART;TZID=America/Anchorage:20241012T100000
DTEND;TZID=America/Anchorage:20241012T170000
LOCATION:Studio 103 at the Plaza
SUMMARY:Harmony & Light Quilting Workshop
END:VEVENT
END:VCALENDAR
