BEGIN:VCALENDAR
VERSION:2.0
PRODID:-//www.ketchikanarts.org//NONSGML kigkonsult.se iCalcreator 2.30.10/
 /
CALSCALE:GREGORIAN
METHOD:PUBLISH
UID:95cae5e6-1200-44b5-bc38-8e6fb5b162f9
X-WR-CALDESC:
X-WR-RELCALID:5f4da127b14450837caac85f046ecde2
X-WR-TIMEZONE:America/Anchorage
BEGIN:VTIMEZONE
TZID:America/Anchorage
BEGIN:STANDARD
TZNAME:AKST
DTSTART:20231105T020000
TZOFFSETFROM:-0800
TZOFFSETTO:-0900
RDATE:20241103T020000
RDATE:20251102T020000
END:STANDARD
BEGIN:DAYLIGHT
TZNAME:AKDT
DTSTART:20240310T020000
TZOFFSETFROM:-0900
TZOFFSETTO:-0800
RDATE:20250309T020000
RDATE:20260308T020000
END:DAYLIGHT
END:VTIMEZONE
BEGIN:VEVENT
UID:f899cb41-cb92-46fe-8e9d-d5d35aa593da
DTSTAMP:20260424T212650Z
DESCRIPTION:
DTSTART;TZID=America/Anchorage:20241012T113000
DTEND;TZID=America/Anchorage:20241012T150000
LOCATION:Kayhi Commons
SUMMARY:Fil-Am Fest 2024
END:VEVENT
END:VCALENDAR
