BEGIN:VCALENDAR
VERSION:2.0
PRODID:-//www.ketchikanarts.org//NONSGML kigkonsult.se iCalcreator 2.30.10/
 /
CALSCALE:GREGORIAN
METHOD:PUBLISH
UID:d9eaa275-d553-482b-8c57-fd27ded450a0
X-WR-CALDESC:Join the Ketchikan Theatre Ballet for the FUNraiser and dance 
 performance!
X-WR-RELCALID:7661685a3835e52c08bcd123b2addb87
X-WR-TIMEZONE:America/Anchorage
BEGIN:VTIMEZONE
TZID:America/Anchorage
BEGIN:STANDARD
TZNAME:AKST
DTSTART:20231105T020000
TZOFFSETFROM:-0800
TZOFFSETTO:-0900
RDATE:20241103T020000
RDATE:20251102T020000
END:STANDARD
BEGIN:DAYLIGHT
TZNAME:AKDT
DTSTART:20240310T020000
TZOFFSETFROM:-0900
TZOFFSETTO:-0800
RDATE:20250309T020000
RDATE:20260308T020000
END:DAYLIGHT
END:VTIMEZONE
BEGIN:VEVENT
UID:38e0a537-3319-4df6-9541-ab3f6ee84e61
DTSTAMP:20260424T214631Z
DESCRIPTION:Join the Ketchikan Theatre Ballet for the FUNraiser and dance p
 erformance!
DTSTART;TZID=America/Anchorage:20241011T173000
DTEND;TZID=America/Anchorage:20241011T210000
LOCATION:Ted Ferry Civic Center
SUMMARY:Autumn Showcase & Auction - Ketchikan Theatre Ballet
END:VEVENT
END:VCALENDAR
