BEGIN:VCALENDAR
VERSION:2.0
PRODID:-//www.ketchikanarts.org//NONSGML kigkonsult.se iCalcreator 2.30.10/
 /
CALSCALE:GREGORIAN
METHOD:PUBLISH
UID:ffa2e242-45b0-4408-8083-64fe5c394c70
X-WR-CALDESC:Bring your ukulele and have some fun playing with the group.\n
 Meets Wednesdays at the Bayside Hotel!
X-WR-RELCALID:ef602fd7c5ab58de61275d254a404ad7
X-WR-TIMEZONE:America/Anchorage
BEGIN:VTIMEZONE
TZID:America/Anchorage
BEGIN:STANDARD
TZNAME:AKST
DTSTART:20231105T020000
TZOFFSETFROM:-0800
TZOFFSETTO:-0900
RDATE:20241103T020000
RDATE:20251102T020000
END:STANDARD
BEGIN:DAYLIGHT
TZNAME:AKDT
DTSTART:20240310T020000
TZOFFSETFROM:-0900
TZOFFSETTO:-0800
RDATE:20250309T020000
RDATE:20260308T020000
END:DAYLIGHT
END:VTIMEZONE
BEGIN:VEVENT
UID:e5e81a9e-111f-48b4-b9fd-91d5e5399b13
DTSTAMP:20260424T212732Z
DESCRIPTION:Bring your ukulele and have some fun playing with the group.\nM
 eets Wednesdays at the Bayside Hotel!
DTSTART;TZID=America/Anchorage:20241009T160000
DTEND;TZID=America/Anchorage:20241009T180000
LOCATION:Bayside Hotel Lobby
SUMMARY:The Ukelele Group
END:VEVENT
END:VCALENDAR
