BEGIN:VCALENDAR
VERSION:2.0
PRODID:-//www.ketchikanarts.org//NONSGML kigkonsult.se iCalcreator 2.30.10/
 /
CALSCALE:GREGORIAN
METHOD:PUBLISH
UID:fe86adf7-39fd-49ac-a002-7ee9e198876a
X-WR-CALDESC:
X-WR-RELCALID:ea982a21ff88985abf58d7046f602d4a
X-WR-TIMEZONE:America/Anchorage
BEGIN:VTIMEZONE
TZID:America/Anchorage
BEGIN:STANDARD
TZNAME:AKST
DTSTART:20231105T020000
TZOFFSETFROM:-0800
TZOFFSETTO:-0900
RDATE:20241103T020000
RDATE:20251102T020000
END:STANDARD
BEGIN:DAYLIGHT
TZNAME:AKDT
DTSTART:20240310T020000
TZOFFSETFROM:-0900
TZOFFSETTO:-0800
RDATE:20250309T020000
RDATE:20260308T020000
END:DAYLIGHT
END:VTIMEZONE
BEGIN:VEVENT
UID:79be1476-a7a0-48e8-9abb-273b0607f9bf
DTSTAMP:20260424T211557Z
DESCRIPTION:
DTSTART;TZID=America/Anchorage:20241006T130000
DTEND;TZID=America/Anchorage:20241006T160000
LOCATION:716 Totem Way #100
SUMMARY:Knitting Classes
END:VEVENT
END:VCALENDAR
