BEGIN:VCALENDAR
VERSION:2.0
PRODID:-//www.ketchikanarts.org//NONSGML kigkonsult.se iCalcreator 2.30.10/
 /
CALSCALE:GREGORIAN
METHOD:PUBLISH
UID:92b612b0-3e5e-4331-b287-a40723b37df2
X-WR-CALDESC:
X-WR-RELCALID:ebbe2964b9dc8d9de216301fc717b3a5
X-WR-TIMEZONE:America/Anchorage
BEGIN:VTIMEZONE
TZID:America/Anchorage
BEGIN:STANDARD
TZNAME:AKST
DTSTART:20231105T020000
TZOFFSETFROM:-0800
TZOFFSETTO:-0900
RDATE:20241103T020000
RDATE:20251102T020000
END:STANDARD
BEGIN:DAYLIGHT
TZNAME:AKDT
DTSTART:20240310T020000
TZOFFSETFROM:-0900
TZOFFSETTO:-0800
RDATE:20250309T020000
RDATE:20260308T020000
END:DAYLIGHT
END:VTIMEZONE
BEGIN:VEVENT
UID:a162f1e7-90a9-4fe5-b26e-0f1124e65f19
DTSTAMP:20260424T211655Z
DESCRIPTION:
DTSTART;TZID=America/Anchorage:20241006T150000
DTEND;TZID=America/Anchorage:20241006T163000
LOCATION:Kayhi Auditorium\, 2610 4th Ave\, Ketchikan\, AK 99901 US
SUMMARY:EMERGE125 Dance Performance
END:VEVENT
END:VCALENDAR
