BEGIN:VCALENDAR
VERSION:2.0
PRODID:-//www.ketchikanarts.org//NONSGML kigkonsult.se iCalcreator 2.30.10/
 /
CALSCALE:GREGORIAN
METHOD:PUBLISH
UID:7577cdbb-7d7f-430e-9373-225d9a8585f8
X-WR-CALDESC:
X-WR-RELCALID:762c48b7e1348005e23fb5b4fb32fb34
X-WR-TIMEZONE:America/Anchorage
BEGIN:VTIMEZONE
TZID:America/Anchorage
BEGIN:STANDARD
TZNAME:AKST
DTSTART:20231105T020000
TZOFFSETFROM:-0800
TZOFFSETTO:-0900
RDATE:20241103T020000
RDATE:20251102T020000
END:STANDARD
BEGIN:DAYLIGHT
TZNAME:AKDT
DTSTART:20240310T020000
TZOFFSETFROM:-0900
TZOFFSETTO:-0800
RDATE:20250309T020000
RDATE:20260308T020000
END:DAYLIGHT
END:VTIMEZONE
BEGIN:VEVENT
UID:a496d706-9967-4aec-a127-b4eaf9ee139d
DTSTAMP:20260424T213223Z
DESCRIPTION:
DTSTART;TZID=America/Anchorage:20241005T183000
DTEND;TZID=America/Anchorage:20241005T213000
LOCATION:Ted Ferry Civic Center
SUMMARY:2024 Ketchikan Kapamilya Gala
END:VEVENT
END:VCALENDAR
