BEGIN:VCALENDAR
VERSION:2.0
PRODID:-//www.ketchikanarts.org//NONSGML kigkonsult.se iCalcreator 2.30.10/
 /
CALSCALE:GREGORIAN
METHOD:PUBLISH
UID:8e1eb816-0cc4-40a8-bd09-962ddb3c51a9
X-WR-CALDESC:
X-WR-RELCALID:51260f9255e397c8ceccdd66fcdbda8a
X-WR-TIMEZONE:America/Anchorage
BEGIN:VTIMEZONE
TZID:America/Anchorage
BEGIN:STANDARD
TZNAME:AKST
DTSTART:20231105T020000
TZOFFSETFROM:-0800
TZOFFSETTO:-0900
RDATE:20241103T020000
RDATE:20251102T020000
END:STANDARD
BEGIN:DAYLIGHT
TZNAME:AKDT
DTSTART:20240310T020000
TZOFFSETFROM:-0900
TZOFFSETTO:-0800
RDATE:20250309T020000
RDATE:20260308T020000
END:DAYLIGHT
END:VTIMEZONE
BEGIN:VEVENT
UID:b6341866-a71d-4ae5-a046-3d443141dfdd
DTSTAMP:20260424T213432Z
DESCRIPTION:
DTSTART;TZID=America/Anchorage:20241004T090000
DTEND;TZID=America/Anchorage:20241004T170000
LOCATION:Ketchikan Public Library
SUMMARY:Friends of Library Book Sale
END:VEVENT
END:VCALENDAR
