BEGIN:VCALENDAR
VERSION:2.0
PRODID:-//www.ketchikanarts.org//NONSGML kigkonsult.se iCalcreator 2.30.10/
 /
CALSCALE:GREGORIAN
METHOD:PUBLISH
UID:51341693-adb1-47de-8511-c380bb2b28b4
X-WR-CALDESC:Celebrate Filipino American History Month! The Main Street Gal
 lery is proud to host 'Bridging Our Stories - Homeland to Birthplace' spec
 ial Pop-Up exhibit with works by Alma Manabat Parker and pieces from the M
 ANA Alaska during the ARTober Art Walk on October 4th!
X-WR-RELCALID:f753940a88d1fec1214dfbf3ea15a28d
X-WR-TIMEZONE:America/Anchorage
BEGIN:VTIMEZONE
TZID:America/Anchorage
BEGIN:STANDARD
TZNAME:AKST
DTSTART:20231105T020000
TZOFFSETFROM:-0800
TZOFFSETTO:-0900
RDATE:20241103T020000
RDATE:20251102T020000
END:STANDARD
BEGIN:DAYLIGHT
TZNAME:AKDT
DTSTART:20240310T020000
TZOFFSETFROM:-0900
TZOFFSETTO:-0800
RDATE:20250309T020000
RDATE:20260308T020000
END:DAYLIGHT
END:VTIMEZONE
BEGIN:VEVENT
UID:fca3489e-871a-4014-bd8e-048c9c22a4cb
DTSTAMP:20260424T214515Z
DESCRIPTION:Celebrate Filipino American History Month! The Main Street Gall
 ery is proud to host 'Bridging Our Stories - Homeland to Birthplace' speci
 al Pop-Up exhibit with works by Alma Manabat Parker and pieces from the MA
 NA Alaska during the ARTober Art Walk on October 4th!
DTSTART;TZID=America/Anchorage:20241004T170000
DTEND;TZID=America/Anchorage:20241004T200000
LOCATION:Main Street Gallery
SUMMARY:'Bridging Our Stories - Homeland to Birthplace'
END:VEVENT
END:VCALENDAR
