BEGIN:VCALENDAR
VERSION:2.0
PRODID:-//www.ketchikanarts.org//NONSGML kigkonsult.se iCalcreator 2.30.10/
 /
CALSCALE:GREGORIAN
METHOD:PUBLISH
UID:ab64f16c-32f1-4334-b572-9b704121acc8
X-WR-CALDESC:Open Mic!
X-WR-RELCALID:6b71d9f0721a3a1548d9ad4254b0caf3
X-WR-TIMEZONE:America/Anchorage
BEGIN:VTIMEZONE
TZID:America/Anchorage
BEGIN:STANDARD
TZNAME:AKST
DTSTART:20231105T020000
TZOFFSETFROM:-0800
TZOFFSETTO:-0900
RDATE:20241103T020000
RDATE:20251102T020000
END:STANDARD
BEGIN:DAYLIGHT
TZNAME:AKDT
DTSTART:20240310T020000
TZOFFSETFROM:-0900
TZOFFSETTO:-0800
RDATE:20250309T020000
RDATE:20260308T020000
END:DAYLIGHT
END:VTIMEZONE
BEGIN:VEVENT
UID:8965e653-5b2a-4c32-a04e-a9d09f147190
DTSTAMP:20260424T230352Z
DESCRIPTION:Open Mic!
DTSTART;TZID=America/Anchorage:20241003T200000
DTEND;TZID=America/Anchorage:20241003T220000
LOCATION:314 Front St\, Ketchikan\, Ketchikan\, AK 99901 US
SUMMARY:Totem Bar Open Mic
END:VEVENT
END:VCALENDAR
