BEGIN:VCALENDAR
VERSION:2.0
PRODID:-//www.ketchikanarts.org//NONSGML kigkonsult.se iCalcreator 2.30.10/
 /
CALSCALE:GREGORIAN
METHOD:PUBLISH
UID:6eecd688-8c57-4507-bcc7-13d25d426080
X-WR-CALDESC:
X-WR-RELCALID:c2001e6c6c02c56176a92b71edf2e627
X-WR-TIMEZONE:America/Anchorage
BEGIN:VTIMEZONE
TZID:America/Anchorage
BEGIN:STANDARD
TZNAME:AKST
DTSTART:20231105T020000
TZOFFSETFROM:-0800
TZOFFSETTO:-0900
RDATE:20241103T020000
RDATE:20251102T020000
END:STANDARD
BEGIN:DAYLIGHT
TZNAME:AKDT
DTSTART:20240310T020000
TZOFFSETFROM:-0900
TZOFFSETTO:-0800
RDATE:20250309T020000
RDATE:20260308T020000
END:DAYLIGHT
END:VTIMEZONE
BEGIN:VEVENT
UID:523c8f37-82ef-499d-a7bc-9cf1f701cce9
DTSTAMP:20260424T224219Z
DESCRIPTION:
DTSTART;TZID=America/Anchorage:20240927T183000
DTEND;TZID=America/Anchorage:20240927T203000
LOCATION:AK Legends Cider & Winery\, 319 Dock St.
SUMMARY:Bridging Our Stories - Homeland To Birthplace
END:VEVENT
END:VCALENDAR
