BEGIN:VCALENDAR
VERSION:2.0
PRODID:-//www.ketchikanarts.org//NONSGML kigkonsult.se iCalcreator 2.30.10/
 /
CALSCALE:GREGORIAN
METHOD:PUBLISH
UID:79426a85-820d-484b-997d-aa000e213f46
X-WR-CALDESC:Bring your ukulele and have some fun playing with the group.\n
 Meets Wednesdays at the Bayside Hotel!
X-WR-RELCALID:ffbcc2efd559d44b4295ac3bceffeb13
X-WR-TIMEZONE:America/Anchorage
BEGIN:VTIMEZONE
TZID:America/Anchorage
BEGIN:STANDARD
TZNAME:AKST
DTSTART:20231105T020000
TZOFFSETFROM:-0800
TZOFFSETTO:-0900
RDATE:20241103T020000
RDATE:20251102T020000
END:STANDARD
BEGIN:DAYLIGHT
TZNAME:AKDT
DTSTART:20240310T020000
TZOFFSETFROM:-0900
TZOFFSETTO:-0800
RDATE:20250309T020000
RDATE:20260308T020000
END:DAYLIGHT
END:VTIMEZONE
BEGIN:VEVENT
UID:74c53fdc-7a3a-413c-a467-2f68a1a07ebc
DTSTAMP:20260424T223733Z
DESCRIPTION:Bring your ukulele and have some fun playing with the group.\nM
 eets Wednesdays at the Bayside Hotel!
DTSTART;TZID=America/Anchorage:20240925T160000
DTEND;TZID=America/Anchorage:20240925T180000
LOCATION:Bayside Hotel Lobby
SUMMARY:The Ukelele Group
END:VEVENT
END:VCALENDAR
