BEGIN:VCALENDAR
VERSION:2.0
PRODID:-//www.ketchikanarts.org//NONSGML kigkonsult.se iCalcreator 2.30.10/
 /
CALSCALE:GREGORIAN
METHOD:PUBLISH
UID:99349afc-837e-4d6d-9336-72af0c60ed82
X-WR-CALDESC:
X-WR-RELCALID:9e65da65993153b945ca4237545a9cff
X-WR-TIMEZONE:America/Anchorage
BEGIN:VTIMEZONE
TZID:America/Anchorage
BEGIN:STANDARD
TZNAME:AKST
DTSTART:20231105T020000
TZOFFSETFROM:-0800
TZOFFSETTO:-0900
RDATE:20241103T020000
RDATE:20251102T020000
END:STANDARD
BEGIN:DAYLIGHT
TZNAME:AKDT
DTSTART:20240310T020000
TZOFFSETFROM:-0900
TZOFFSETTO:-0800
RDATE:20250309T020000
RDATE:20260308T020000
END:DAYLIGHT
END:VTIMEZONE
BEGIN:VEVENT
UID:8177f865-ede8-4db2-8cd7-32af0857dbcc
DTSTAMP:20260424T223903Z
DESCRIPTION:
DTSTART;TZID=America/Anchorage:20240924T180000
DTEND;TZID=America/Anchorage:20240924T193000
LOCATION:UAS Ketchikan Campus
SUMMARY:Ask UAS - Van Gogh: of Wheat Fields & Clouded Skies
END:VEVENT
END:VCALENDAR
