BEGIN:VCALENDAR
VERSION:2.0
PRODID:-//www.ketchikanarts.org//NONSGML kigkonsult.se iCalcreator 2.30.10/
 /
CALSCALE:GREGORIAN
METHOD:PUBLISH
UID:d682c905-f786-40b3-96cb-a6d2747f0e24
X-WR-CALDESC:First City Toastmasters welcomes all who want to improve their
  confidence in speaking to a group of 2 or 200. Perfect for mastering arti
 st talks!\nEvery Tuesday!\n6:45 - 7:45 am. In-person on the lower level of
  the Presbyterian Church or by ZOOM.
X-WR-RELCALID:ec0b1b49ed46b178abf79a87576571ef
X-WR-TIMEZONE:America/Anchorage
BEGIN:VTIMEZONE
TZID:America/Anchorage
BEGIN:STANDARD
TZNAME:AKST
DTSTART:20231105T020000
TZOFFSETFROM:-0800
TZOFFSETTO:-0900
RDATE:20241103T020000
RDATE:20251102T020000
END:STANDARD
BEGIN:DAYLIGHT
TZNAME:AKDT
DTSTART:20240310T020000
TZOFFSETFROM:-0900
TZOFFSETTO:-0800
RDATE:20250309T020000
RDATE:20260308T020000
END:DAYLIGHT
END:VTIMEZONE
BEGIN:VEVENT
UID:6af98731-2d45-4f60-a729-215e2319e09a
DTSTAMP:20260424T224621Z
DESCRIPTION:First City Toastmasters welcomes all who want to improve their 
 confidence in speaking to a group of 2 or 200. Perfect for mastering artis
 t talks!\nEvery Tuesday!\n6:45 - 7:45 am. In-person on the lower level of 
 the Presbyterian Church or by ZOOM.
DTSTART;TZID=America/Anchorage:20240924T064500
DTEND;TZID=America/Anchorage:20240924T074500
LOCATION:
SUMMARY:First City Toastmasters Club
END:VEVENT
END:VCALENDAR
