BEGIN:VCALENDAR
VERSION:2.0
PRODID:-//www.ketchikanarts.org//NONSGML kigkonsult.se iCalcreator 2.30.10/
 /
CALSCALE:GREGORIAN
METHOD:PUBLISH
UID:d2d84940-01e7-4434-a83a-179b122c4f68
X-WR-CALDESC:Email your questions for the candidates to KRBD!!!
X-WR-RELCALID:f2d5747323c889aadccb95904d09a32b
X-WR-TIMEZONE:America/Anchorage
BEGIN:VTIMEZONE
TZID:America/Anchorage
BEGIN:STANDARD
TZNAME:AKST
DTSTART:20231105T020000
TZOFFSETFROM:-0800
TZOFFSETTO:-0900
RDATE:20241103T020000
RDATE:20251102T020000
END:STANDARD
BEGIN:DAYLIGHT
TZNAME:AKDT
DTSTART:20240310T020000
TZOFFSETFROM:-0900
TZOFFSETTO:-0800
RDATE:20250309T020000
RDATE:20260308T020000
END:DAYLIGHT
END:VTIMEZONE
BEGIN:VEVENT
UID:60d6d71c-5bcc-4309-bffe-1299dfd5f417
DTSTAMP:20260424T224407Z
DESCRIPTION:Email your questions for the candidates to KRBD!!!
DTSTART;TZID=America/Anchorage:20240920T190000
DTEND;TZID=America/Anchorage:20240920T203000
LOCATION:KRBD Public Radio
SUMMARY:KRBD City Council Candidate Forum
END:VEVENT
END:VCALENDAR
