BEGIN:VCALENDAR
VERSION:2.0
PRODID:-//www.ketchikanarts.org//NONSGML kigkonsult.se iCalcreator 2.30.10/
 /
CALSCALE:GREGORIAN
METHOD:PUBLISH
UID:a97767dc-6208-44e1-be0c-ebd220576633
X-WR-CALDESC:
X-WR-RELCALID:186b5ce65497e876f3d9ada9194ad5eb
X-WR-TIMEZONE:America/Anchorage
BEGIN:VTIMEZONE
TZID:America/Anchorage
BEGIN:STANDARD
TZNAME:AKST
DTSTART:20231105T020000
TZOFFSETFROM:-0800
TZOFFSETTO:-0900
RDATE:20241103T020000
RDATE:20251102T020000
END:STANDARD
BEGIN:DAYLIGHT
TZNAME:AKDT
DTSTART:20240310T020000
TZOFFSETFROM:-0900
TZOFFSETTO:-0800
RDATE:20250309T020000
RDATE:20260308T020000
END:DAYLIGHT
END:VTIMEZONE
BEGIN:VEVENT
UID:72358109-ac24-4e1e-83d5-42527d2abd67
DTSTAMP:20260424T223508Z
DESCRIPTION:
DTSTART;TZID=America/Anchorage:20240920T140000
DTEND;TZID=America/Anchorage:20240920T153000
LOCATION:#5 Creek Street
SUMMARY:the ARTery - Fall Classes
END:VEVENT
END:VCALENDAR
