BEGIN:VCALENDAR
VERSION:2.0
PRODID:-//www.ketchikanarts.org//NONSGML kigkonsult.se iCalcreator 2.30.10/
 /
CALSCALE:GREGORIAN
METHOD:PUBLISH
UID:c28e0f2b-511d-4e87-bdb6-a7d410f0bb71
X-WR-CALDESC:Email your questions for the candidates to KRBD!!!
X-WR-RELCALID:a0ebf4ce40776e9a8a5cc89773708749
X-WR-TIMEZONE:America/Anchorage
BEGIN:VTIMEZONE
TZID:America/Anchorage
BEGIN:STANDARD
TZNAME:AKST
DTSTART:20231105T020000
TZOFFSETFROM:-0800
TZOFFSETTO:-0900
RDATE:20241103T020000
RDATE:20251102T020000
END:STANDARD
BEGIN:DAYLIGHT
TZNAME:AKDT
DTSTART:20240310T020000
TZOFFSETFROM:-0900
TZOFFSETTO:-0800
RDATE:20250309T020000
RDATE:20260308T020000
END:DAYLIGHT
END:VTIMEZONE
BEGIN:VEVENT
UID:932ff898-85a0-4783-a9b2-5d0080a96d0c
DTSTAMP:20260424T224405Z
DESCRIPTION:Email your questions for the candidates to KRBD!!!
DTSTART;TZID=America/Anchorage:20240918T184500
DTEND;TZID=America/Anchorage:20240918T200000
LOCATION:KRBD Public Radio
SUMMARY:KRBD Alaska House District 1 Candidate Forum
END:VEVENT
END:VCALENDAR
