BEGIN:VCALENDAR
VERSION:2.0
PRODID:-//www.ketchikanarts.org//NONSGML kigkonsult.se iCalcreator 2.30.10/
 /
CALSCALE:GREGORIAN
METHOD:PUBLISH
UID:0410a57e-a973-4c7b-afe9-76fd0decd7e7
X-WR-CALDESC:
X-WR-RELCALID:bcb5e57b8321a51634a41332342c0376
X-WR-TIMEZONE:America/Anchorage
BEGIN:VTIMEZONE
TZID:America/Anchorage
BEGIN:STANDARD
TZNAME:AKST
DTSTART:20231105T020000
TZOFFSETFROM:-0800
TZOFFSETTO:-0900
RDATE:20241103T020000
RDATE:20251102T020000
END:STANDARD
BEGIN:DAYLIGHT
TZNAME:AKDT
DTSTART:20240310T020000
TZOFFSETFROM:-0900
TZOFFSETTO:-0800
RDATE:20250309T020000
RDATE:20260308T020000
END:DAYLIGHT
END:VTIMEZONE
BEGIN:VEVENT
UID:81866a02-250f-442f-a573-f409ab011ae8
DTSTAMP:20260424T224510Z
DESCRIPTION:
DTSTART;TZID=America/Anchorage:20240914T120000
DTEND;TZID=America/Anchorage:20240914T160000
LOCATION:CTA Carbing Shed\, Craig\, AK
SUMMARY:Craig Tribal Association Totem Pole Raising Event
END:VEVENT
END:VCALENDAR
