BEGIN:VCALENDAR
VERSION:2.0
PRODID:-//www.ketchikanarts.org//NONSGML kigkonsult.se iCalcreator 2.30.10/
 /
CALSCALE:GREGORIAN
METHOD:PUBLISH
UID:e77eae2e-732a-4378-a6b3-85d8fe5a63dc
X-WR-CALDESC:Email your questions for the candidates to KRBD!!!
X-WR-RELCALID:e828c15e92288b5b706a37598ed6b2bd
X-WR-TIMEZONE:America/Anchorage
BEGIN:VTIMEZONE
TZID:America/Anchorage
BEGIN:STANDARD
TZNAME:AKST
DTSTART:20231105T020000
TZOFFSETFROM:-0800
TZOFFSETTO:-0900
RDATE:20241103T020000
RDATE:20251102T020000
END:STANDARD
BEGIN:DAYLIGHT
TZNAME:AKDT
DTSTART:20240310T020000
TZOFFSETFROM:-0900
TZOFFSETTO:-0800
RDATE:20250309T020000
RDATE:20260308T020000
END:DAYLIGHT
END:VTIMEZONE
BEGIN:VEVENT
UID:ed4e8334-aa2e-4613-a337-32b5ef640ca6
DTSTAMP:20260424T223431Z
DESCRIPTION:Email your questions for the candidates to KRBD!!!
DTSTART;TZID=America/Anchorage:20240913T180000
DTEND;TZID=America/Anchorage:20240913T193000
LOCATION:KRBD Public Radio
SUMMARY:KRBD Borough Assembly Candidate Forum
END:VEVENT
END:VCALENDAR
