BEGIN:VCALENDAR
VERSION:2.0
PRODID:-//www.ketchikanarts.org//NONSGML kigkonsult.se iCalcreator 2.30.10/
 /
CALSCALE:GREGORIAN
METHOD:PUBLISH
UID:8b9c4eee-4161-43ed-9dfe-e00b501f8865
X-WR-CALDESC:Come enjoy live music by The Free Radicals - Live Calling - Al
 l Dances are taught - and a delightful atmosphere!!!\n\nEvery second Frida
 y of the month!\n\n$5 at the door. \n\nMore info coming!
X-WR-RELCALID:5081584733090b64fd4db7302932c926
X-WR-TIMEZONE:America/Anchorage
BEGIN:VTIMEZONE
TZID:America/Anchorage
BEGIN:STANDARD
TZNAME:AKST
DTSTART:20231105T020000
TZOFFSETFROM:-0800
TZOFFSETTO:-0900
RDATE:20241103T020000
RDATE:20251102T020000
END:STANDARD
BEGIN:DAYLIGHT
TZNAME:AKDT
DTSTART:20240310T020000
TZOFFSETFROM:-0900
TZOFFSETTO:-0800
RDATE:20250309T020000
RDATE:20260308T020000
END:DAYLIGHT
END:VTIMEZONE
BEGIN:VEVENT
UID:976615c8-d8b7-4015-b442-c4d76785e9ed
DTSTAMP:20260424T223732Z
DESCRIPTION:Come enjoy live music by The Free Radicals - Live Calling - All
  Dances are taught - and a delightful atmosphere!!!\n\nEvery second Friday
  of the month!\n\n$5 at the door. \n\nMore info coming!
DTSTART;TZID=America/Anchorage:20240913T190000
DTEND;TZID=America/Anchorage:20240913T210000
LOCATION:Creek Street Cabaret
SUMMARY:SQUARE DANCING!!! - Save the Date!
END:VEVENT
END:VCALENDAR
