BEGIN:VCALENDAR
VERSION:2.0
PRODID:-//www.ketchikanarts.org//NONSGML kigkonsult.se iCalcreator 2.30.10/
 /
CALSCALE:GREGORIAN
METHOD:PUBLISH
UID:5a9aade0-c546-477f-8112-abb47b1dc174
X-WR-CALDESC:Open Mic!
X-WR-RELCALID:07ceb6272d5e276e07b7a11a6b4e76c0
X-WR-TIMEZONE:America/Anchorage
BEGIN:VTIMEZONE
TZID:America/Anchorage
BEGIN:STANDARD
TZNAME:AKST
DTSTART:20231105T020000
TZOFFSETFROM:-0800
TZOFFSETTO:-0900
RDATE:20241103T020000
RDATE:20251102T020000
END:STANDARD
BEGIN:DAYLIGHT
TZNAME:AKDT
DTSTART:20240310T020000
TZOFFSETFROM:-0900
TZOFFSETTO:-0800
RDATE:20250309T020000
RDATE:20260308T020000
END:DAYLIGHT
END:VTIMEZONE
BEGIN:VEVENT
UID:51423045-fd77-414b-b326-89d9328e254d
DTSTAMP:20260424T223813Z
DESCRIPTION:Open Mic!
DTSTART;TZID=America/Anchorage:20240912T200000
DTEND;TZID=America/Anchorage:20240912T220000
LOCATION:314 Front St\, Ketchikan\, Ketchikan\, AK 99901 US
SUMMARY:Totem Bar Open Mic
END:VEVENT
END:VCALENDAR
