BEGIN:VCALENDAR
VERSION:2.0
PRODID:-//www.ketchikanarts.org//NONSGML kigkonsult.se iCalcreator 2.30.10/
 /
CALSCALE:GREGORIAN
METHOD:PUBLISH
UID:f3a812e2-0e74-434f-b134-bea594c09192
X-WR-CALDESC:
X-WR-RELCALID:37930a349eba631655a1866cd919487c
X-WR-TIMEZONE:America/Anchorage
BEGIN:VTIMEZONE
TZID:America/Anchorage
BEGIN:STANDARD
TZNAME:AKST
DTSTART:20231105T020000
TZOFFSETFROM:-0800
TZOFFSETTO:-0900
RDATE:20241103T020000
RDATE:20251102T020000
END:STANDARD
BEGIN:DAYLIGHT
TZNAME:AKDT
DTSTART:20240310T020000
TZOFFSETFROM:-0900
TZOFFSETTO:-0800
RDATE:20250309T020000
RDATE:20260308T020000
END:DAYLIGHT
END:VTIMEZONE
BEGIN:VEVENT
UID:16f703b9-4f24-4059-8448-41dba9366301
DTSTAMP:20260424T223610Z
DESCRIPTION:
DTSTART;TZID=America/Anchorage:20240912T130000
DTEND;TZID=America/Anchorage:20240912T173000
LOCATION:#5 Creek Street
SUMMARY:the ARTery - Fall Classes
END:VEVENT
END:VCALENDAR
