BEGIN:VCALENDAR
VERSION:2.0
PRODID:-//www.ketchikanarts.org//NONSGML kigkonsult.se iCalcreator 2.30.10/
 /
CALSCALE:GREGORIAN
METHOD:PUBLISH
UID:6aeae87d-2779-417b-87ab-cb55569e11af
X-WR-CALDESC:Open mic for stories\, poetry\, and comedy. Sign up and ascend
  to the memory of local fame.
X-WR-RELCALID:7333b1990dacc4025af764c0815d660a
X-WR-TIMEZONE:America/Anchorage
BEGIN:VTIMEZONE
TZID:America/Anchorage
BEGIN:STANDARD
TZNAME:AKST
DTSTART:20231105T020000
TZOFFSETFROM:-0800
TZOFFSETTO:-0900
RDATE:20241103T020000
RDATE:20251102T020000
END:STANDARD
BEGIN:DAYLIGHT
TZNAME:AKDT
DTSTART:20240310T020000
TZOFFSETFROM:-0900
TZOFFSETTO:-0800
RDATE:20250309T020000
RDATE:20260308T020000
END:DAYLIGHT
END:VTIMEZONE
BEGIN:VEVENT
UID:ee1e76a1-c137-4f8d-8a77-2bdeac97da0c
DTSTAMP:20260424T223509Z
DESCRIPTION:Open mic for stories\, poetry\, and comedy. Sign up and ascend 
 to the memory of local fame.
DTSTART;TZID=America/Anchorage:20240910T190000
DTEND;TZID=America/Anchorage:20240910T203000
LOCATION:Creek Street Cabaret
SUMMARY:Story Slam
END:VEVENT
END:VCALENDAR
