BEGIN:VCALENDAR
VERSION:2.0
PRODID:-//www.ketchikanarts.org//NONSGML kigkonsult.se iCalcreator 2.30.10/
 /
CALSCALE:GREGORIAN
METHOD:PUBLISH
UID:ffa11f61-eb0a-415e-ba64-3c7a03061d30
X-WR-CALDESC:Fall rehearsals are in preparation for KCC's annual Winter con
 cert!! The Winter Concerts will be December 4th\, 2024 at 7pm\, and Decemb
 er 7th\, 2024 at 3pm
X-WR-RELCALID:d1868670bdab31013bb943cf072be4a9
X-WR-TIMEZONE:America/Anchorage
BEGIN:VTIMEZONE
TZID:America/Anchorage
BEGIN:STANDARD
TZNAME:AKST
DTSTART:20231105T020000
TZOFFSETFROM:-0800
TZOFFSETTO:-0900
RDATE:20241103T020000
RDATE:20251102T020000
END:STANDARD
BEGIN:DAYLIGHT
TZNAME:AKDT
DTSTART:20240310T020000
TZOFFSETFROM:-0900
TZOFFSETTO:-0800
RDATE:20250309T020000
RDATE:20260308T020000
END:DAYLIGHT
END:VTIMEZONE
BEGIN:VEVENT
UID:b1d49cc1-8d00-43a4-a180-b01665bca614
DTSTAMP:20260424T224710Z
DESCRIPTION:Fall rehearsals are in preparation for KCC's annual Winter conc
 ert!! The Winter Concerts will be December 4th\, 2024 at 7pm\, and Decembe
 r 7th\, 2024 at 3pm
DTSTART;TZID=America/Anchorage:20240910T190000
DTEND;TZID=America/Anchorage:20240910T203000
LOCATION:400 Main Street\, Ketchikan\, AK 99901 US
SUMMARY:Ketchikan Community Chorus Rehearsal
END:VEVENT
END:VCALENDAR
