BEGIN:VCALENDAR
VERSION:2.0
PRODID:-//www.ketchikanarts.org//NONSGML kigkonsult.se iCalcreator 2.30.10/
 /
CALSCALE:GREGORIAN
METHOD:PUBLISH
UID:6bcd2ecb-9947-4ed9-bab5-7ac403060687
X-WR-CALDESC:Seasonal Miguel (not Torres) will be teaching the basics of Sa
 lsa so you can dance the night away in style!!!
X-WR-RELCALID:3815ec2119690194c8c6903d0b524440
X-WR-TIMEZONE:America/Anchorage
BEGIN:VTIMEZONE
TZID:America/Anchorage
BEGIN:STANDARD
TZNAME:AKST
DTSTART:20231105T020000
TZOFFSETFROM:-0800
TZOFFSETTO:-0900
RDATE:20241103T020000
RDATE:20251102T020000
END:STANDARD
BEGIN:DAYLIGHT
TZNAME:AKDT
DTSTART:20240310T020000
TZOFFSETFROM:-0900
TZOFFSETTO:-0800
RDATE:20250309T020000
RDATE:20260308T020000
END:DAYLIGHT
END:VTIMEZONE
BEGIN:VEVENT
UID:f447b235-0d31-43f3-98ad-45c418593dae
DTSTAMP:20260424T223420Z
DESCRIPTION:Seasonal Miguel (not Torres) will be teaching the basics of Sal
 sa so you can dance the night away in style!!!
DTSTART;TZID=America/Anchorage:20240907T193000
DTEND;TZID=America/Anchorage:20240907T213000
LOCATION:Creek Street Cabaret
SUMMARY:Salsa Social!!!!
END:VEVENT
END:VCALENDAR
