BEGIN:VCALENDAR
VERSION:2.0
PRODID:-//www.ketchikanarts.org//NONSGML kigkonsult.se iCalcreator 2.30.10/
 /
CALSCALE:GREGORIAN
METHOD:PUBLISH
UID:ccc790c3-552f-47fc-ab4f-191e7e19314d
X-WR-CALDESC:335 Main Street
X-WR-RELCALID:1821181f7a8e95f23c37a38777881d98
X-WR-TIMEZONE:America/Anchorage
BEGIN:VTIMEZONE
TZID:America/Anchorage
BEGIN:STANDARD
TZNAME:AKST
DTSTART:20231105T020000
TZOFFSETFROM:-0800
TZOFFSETTO:-0900
RDATE:20241103T020000
RDATE:20251102T020000
END:STANDARD
BEGIN:DAYLIGHT
TZNAME:AKDT
DTSTART:20240310T020000
TZOFFSETFROM:-0900
TZOFFSETTO:-0800
RDATE:20250309T020000
END:DAYLIGHT
END:VTIMEZONE
BEGIN:VEVENT
UID:d613cc7a-2b31-4e72-a414-7feeea552170
DTSTAMP:20260424T224038Z
DESCRIPTION:335 Main Street
DTSTART;TZID=America/Anchorage:20240905T183000
DTEND;TZID=America/Anchorage:20240905T203000
LOCATION:Call To Schedule
SUMMARY:Auditions - Something Rotten - First City Players
END:VEVENT
END:VCALENDAR
