BEGIN:VCALENDAR
VERSION:2.0
PRODID:-//www.ketchikanarts.org//NONSGML kigkonsult.se iCalcreator 2.30.10/
 /
CALSCALE:GREGORIAN
METHOD:PUBLISH
UID:33c2bc42-b013-4e74-a44a-6fba6b0e57eb
X-WR-CALDESC:
X-WR-RELCALID:04c2d5156d9b21194dbd9f1837161c95
X-WR-TIMEZONE:America/Anchorage
BEGIN:VTIMEZONE
TZID:America/Anchorage
BEGIN:STANDARD
TZNAME:AKST
DTSTART:20231105T020000
TZOFFSETFROM:-0800
TZOFFSETTO:-0900
RDATE:20241103T020000
RDATE:20251102T020000
END:STANDARD
BEGIN:DAYLIGHT
TZNAME:AKDT
DTSTART:20240310T020000
TZOFFSETFROM:-0900
TZOFFSETTO:-0800
RDATE:20250309T020000
END:DAYLIGHT
END:VTIMEZONE
BEGIN:VEVENT
UID:449aca21-c1aa-4ee1-acf2-cf22f631437e
DTSTAMP:20260425T001602Z
DESCRIPTION:
DTSTART;TZID=America/Anchorage:20240827T120000
DTEND;TZID=America/Anchorage:20240827T130000
LOCATION:If sunny - Berth 2\, If raining - Berth 3 shelter
SUMMARY:Music on the Dock - Big Wave
END:VEVENT
END:VCALENDAR
