BEGIN:VCALENDAR
VERSION:2.0
PRODID:-//www.ketchikanarts.org//NONSGML kigkonsult.se iCalcreator 2.30.10/
 /
CALSCALE:GREGORIAN
METHOD:PUBLISH
UID:0b2074b3-b2dd-48b8-a5c6-20e81ea158de
X-WR-CALDESC:Open Mic available for all types of performance.
X-WR-RELCALID:10909dc3c1f24eb2b3f3ad44b017c3e4
X-WR-TIMEZONE:America/Anchorage
BEGIN:VTIMEZONE
TZID:America/Anchorage
BEGIN:STANDARD
TZNAME:AKST
DTSTART:20231105T020000
TZOFFSETFROM:-0800
TZOFFSETTO:-0900
RDATE:20241103T020000
RDATE:20251102T020000
END:STANDARD
BEGIN:DAYLIGHT
TZNAME:AKDT
DTSTART:20240310T020000
TZOFFSETFROM:-0900
TZOFFSETTO:-0800
RDATE:20250309T020000
END:DAYLIGHT
END:VTIMEZONE
BEGIN:VEVENT
UID:be3a1321-af8f-40e3-a37c-d186b33e61bb
DTSTAMP:20260425T001742Z
DESCRIPTION:Open Mic available for all types of performance.
DTSTART;TZID=America/Anchorage:20240825T170000
DTEND;TZID=America/Anchorage:20240825T200000
LOCATION:3 Salmon Landing\, Ketchikan\, AK 99901 US
SUMMARY:Open Mic Fish House
END:VEVENT
END:VCALENDAR
