BEGIN:VCALENDAR
VERSION:2.0
PRODID:-//www.ketchikanarts.org//NONSGML kigkonsult.se iCalcreator 2.30.10/
 /
CALSCALE:GREGORIAN
METHOD:PUBLISH
UID:b751c087-76c9-4657-a07b-2505cbac7725
X-WR-CALDESC:The Synergy Twins (yes\, they are twins!) are a dynamic duo in
  the classical crossover violin movement! Cool! They are in Ketchikan for 
 only one performance. \n\nNo Cover Charge!
X-WR-RELCALID:c732449914679b9346ab48853741150c
X-WR-TIMEZONE:America/Anchorage
BEGIN:VTIMEZONE
TZID:America/Anchorage
BEGIN:STANDARD
TZNAME:AKST
DTSTART:20231105T020000
TZOFFSETFROM:-0800
TZOFFSETTO:-0900
RDATE:20241103T020000
RDATE:20251102T020000
END:STANDARD
BEGIN:DAYLIGHT
TZNAME:AKDT
DTSTART:20240310T020000
TZOFFSETFROM:-0900
TZOFFSETTO:-0800
RDATE:20250309T020000
END:DAYLIGHT
END:VTIMEZONE
BEGIN:VEVENT
UID:b446472f-2763-4f0e-9a45-74206731178c
DTSTAMP:20260425T001745Z
DESCRIPTION:The Synergy Twins (yes\, they are twins!) are a dynamic duo in 
 the classical crossover violin movement! Cool! They are in Ketchikan for o
 nly one performance. \n\nNo Cover Charge!
DTSTART;TZID=America/Anchorage:20240823T180000
DTEND;TZID=America/Anchorage:20240823T210000
LOCATION:The Asylum
SUMMARY:Synergy Twins - at The Asylum
END:VEVENT
END:VCALENDAR
