BEGIN:VCALENDAR
VERSION:2.0
PRODID:-//www.ketchikanarts.org//NONSGML kigkonsult.se iCalcreator 2.30.10/
 /
CALSCALE:GREGORIAN
METHOD:PUBLISH
UID:c4779274-d1f0-4e28-a486-fafc5c0c86b2
X-WR-CALDESC:
X-WR-RELCALID:f2b197b2b13f29ba63e1b82d08f8c212
X-WR-TIMEZONE:America/Anchorage
BEGIN:VTIMEZONE
TZID:America/Anchorage
BEGIN:STANDARD
TZNAME:AKST
DTSTART:20231105T020000
TZOFFSETFROM:-0800
TZOFFSETTO:-0900
RDATE:20241103T020000
RDATE:20251102T020000
END:STANDARD
BEGIN:DAYLIGHT
TZNAME:AKDT
DTSTART:20240310T020000
TZOFFSETFROM:-0900
TZOFFSETTO:-0800
RDATE:20250309T020000
END:DAYLIGHT
END:VTIMEZONE
BEGIN:VEVENT
UID:efa8c297-9cc5-4ee1-9f84-7f01b0048aa9
DTSTAMP:20260425T001601Z
DESCRIPTION:
DTSTART;TZID=America/Anchorage:20240822T120000
DTEND;TZID=America/Anchorage:20240822T130000
LOCATION:If sunny - Berth 2\, If raining - Berth 3 shelter
SUMMARY:Music on the Dock - The String Beings
END:VEVENT
END:VCALENDAR
