BEGIN:VCALENDAR
VERSION:2.0
PRODID:-//www.ketchikanarts.org//NONSGML kigkonsult.se iCalcreator 2.30.10/
 /
CALSCALE:GREGORIAN
METHOD:PUBLISH
UID:2d07e098-ab44-412e-8f8e-d790705a7eb0
X-WR-CALDESC:Come see us this Saturday for our annual KTB Open House! Regis
 ter for classes\, tour the studio\, and have a cookie or two!\n\nBou Cou D
 ancewear will be here with a pop-up shop and can help dancers get outfitte
 d with gear!\n\nAND! We will have FREE try-it-out classes for ages 3-12!\n
 \nWe can’t wait to see you!\n— at Ketchikan Theatre Ballet.
X-WR-RELCALID:c32c64896d9d3fdff32ab76e2f218108
X-WR-TIMEZONE:America/Anchorage
BEGIN:VTIMEZONE
TZID:America/Anchorage
BEGIN:STANDARD
TZNAME:AKST
DTSTART:20231105T020000
TZOFFSETFROM:-0800
TZOFFSETTO:-0900
RDATE:20241103T020000
RDATE:20251102T020000
END:STANDARD
BEGIN:DAYLIGHT
TZNAME:AKDT
DTSTART:20240310T020000
TZOFFSETFROM:-0900
TZOFFSETTO:-0800
RDATE:20250309T020000
END:DAYLIGHT
END:VTIMEZONE
BEGIN:VEVENT
UID:28563c5a-bec4-47d3-9a18-eaf5509d9e79
DTSTAMP:20260425T002033Z
DESCRIPTION:Come see us this Saturday for our annual KTB Open House! Regist
 er for classes\, tour the studio\, and have a cookie or two!\n\nBou Cou Da
 ncewear will be here with a pop-up shop and can help dancers get outfitted
  with gear!\n\nAND! We will have FREE try-it-out classes for ages 3-12!\n
 \nWe can’t wait to see you!\n— at Ketchikan Theatre Ballet.
DTSTART;TZID=America/Anchorage:20240817T140000
DTEND;TZID=America/Anchorage:20240817T180000
LOCATION:400 Mission St.\, Ketchikan\, AK 99901 US
SUMMARY:Ketchikan Theatre Ballet Open House
END:VEVENT
END:VCALENDAR
