BEGIN:VCALENDAR
VERSION:2.0
PRODID:-//www.ketchikanarts.org//NONSGML kigkonsult.se iCalcreator 2.30.10/
 /
CALSCALE:GREGORIAN
METHOD:PUBLISH
UID:06ceaabc-6891-4c9d-bb31-03dc1eeed42c
X-WR-CALDESC:
X-WR-RELCALID:0ded77e506cb586e68858a53c4211dc8
X-WR-TIMEZONE:America/Anchorage
BEGIN:VTIMEZONE
TZID:America/Anchorage
BEGIN:STANDARD
TZNAME:AKST
DTSTART:20231105T020000
TZOFFSETFROM:-0800
TZOFFSETTO:-0900
RDATE:20241103T020000
RDATE:20251102T020000
END:STANDARD
BEGIN:DAYLIGHT
TZNAME:AKDT
DTSTART:20240310T020000
TZOFFSETFROM:-0900
TZOFFSETTO:-0800
RDATE:20250309T020000
END:DAYLIGHT
END:VTIMEZONE
BEGIN:VEVENT
UID:bdc69466-bb96-4462-a76b-9f427e53fa44
DTSTAMP:20260425T002211Z
DESCRIPTION:
DTSTART;TZID=America/Anchorage:20240816T020000
DTEND;TZID=America/Anchorage:20240816T020001
LOCATION:https://www.jedc.org/srec-summit/
SUMMARY:Call to Artists - Photography Contest
END:VEVENT
END:VCALENDAR
