BEGIN:VCALENDAR
VERSION:2.0
PRODID:-//www.ketchikanarts.org//NONSGML kigkonsult.se iCalcreator 2.30.10/
 /
CALSCALE:GREGORIAN
METHOD:PUBLISH
UID:8e361259-1ebd-4bd0-8929-732a4c8b6d0b
X-WR-CALDESC:
X-WR-RELCALID:6267650ed98563f2847a92de13c2321b
X-WR-TIMEZONE:America/Anchorage
BEGIN:VTIMEZONE
TZID:America/Anchorage
BEGIN:STANDARD
TZNAME:AKST
DTSTART:20231105T020000
TZOFFSETFROM:-0800
TZOFFSETTO:-0900
RDATE:20241103T020000
RDATE:20251102T020000
END:STANDARD
BEGIN:DAYLIGHT
TZNAME:AKDT
DTSTART:20240310T020000
TZOFFSETFROM:-0900
TZOFFSETTO:-0800
RDATE:20250309T020000
END:DAYLIGHT
END:VTIMEZONE
BEGIN:VEVENT
UID:4cfb2f0a-9b75-4a77-a13d-ff9a16d9306e
DTSTAMP:20260425T002139Z
DESCRIPTION:
DTSTART;TZID=America/Anchorage:20240812T120000
DTEND;TZID=America/Anchorage:20240812T130000
LOCATION:If sunny - Berth 2\, If raining - Berth 3 shelter
SUMMARY:Music on the Dock - Ketchikan Community Chorus Summer Singers
END:VEVENT
END:VCALENDAR
