BEGIN:VCALENDAR
VERSION:2.0
PRODID:-//www.ketchikanarts.org//NONSGML kigkonsult.se iCalcreator 2.30.10/
 /
CALSCALE:GREGORIAN
METHOD:PUBLISH
UID:e16e4b67-8e65-4931-8ee5-0e21a69a4f4d
X-WR-CALDESC:
X-WR-RELCALID:2b06faa49068af0f689d4402782f6e3e
X-WR-TIMEZONE:America/Anchorage
BEGIN:VTIMEZONE
TZID:America/Anchorage
BEGIN:STANDARD
TZNAME:AKST
DTSTART:20231105T020000
TZOFFSETFROM:-0800
TZOFFSETTO:-0900
RDATE:20241103T020000
RDATE:20251102T020000
END:STANDARD
BEGIN:DAYLIGHT
TZNAME:AKDT
DTSTART:20240310T020000
TZOFFSETFROM:-0900
TZOFFSETTO:-0800
RDATE:20250309T020000
END:DAYLIGHT
END:VTIMEZONE
BEGIN:VEVENT
UID:a1cbcfd9-5635-4f61-abef-bc31bc39e3e2
DTSTAMP:20260425T002058Z
DESCRIPTION:
DTSTART;TZID=America/Anchorage:20240810T143000
DTEND;TZID=America/Anchorage:20240810T153000
LOCATION:Kayhi Auditorium
SUMMARY:Senior ArtsCool presents - Mean Girls
END:VEVENT
END:VCALENDAR
