BEGIN:VCALENDAR
VERSION:2.0
PRODID:-//www.ketchikanarts.org//NONSGML kigkonsult.se iCalcreator 2.30.10/
 /
CALSCALE:GREGORIAN
METHOD:PUBLISH
UID:2998eae4-cf93-44c3-902b-fa9d9bfc522f
X-WR-CALDESC:Enjoy a night out in support of Andiamo Dance company's upcomi
 ng 2025 travels!\n\nClick below for more information!
X-WR-RELCALID:f5a6113c1f7698c8910e18659b4adf92
X-WR-TIMEZONE:America/Anchorage
BEGIN:VTIMEZONE
TZID:America/Anchorage
BEGIN:STANDARD
TZNAME:AKST
DTSTART:20231105T020000
TZOFFSETFROM:-0800
TZOFFSETTO:-0900
RDATE:20241103T020000
RDATE:20251102T020000
END:STANDARD
BEGIN:DAYLIGHT
TZNAME:AKDT
DTSTART:20240310T020000
TZOFFSETFROM:-0900
TZOFFSETTO:-0800
RDATE:20250309T020000
END:DAYLIGHT
END:VTIMEZONE
BEGIN:VEVENT
UID:748b03e7-aa1d-44f8-9768-4c298b3bd6d8
DTSTAMP:20260425T002123Z
DESCRIPTION:Enjoy a night out in support of Andiamo Dance company's upcomin
 g 2025 travels!\n\nClick below for more information!
DTSTART;TZID=America/Anchorage:20240810T180000
DTEND;TZID=America/Anchorage:20240810T200000
LOCATION:Alaska King Crab Company
SUMMARY:Aperitifs and Appetizers Fundraiser - Andiamo Dance Company
END:VEVENT
END:VCALENDAR
