BEGIN:VCALENDAR
VERSION:2.0
PRODID:-//www.ketchikanarts.org//NONSGML kigkonsult.se iCalcreator 2.30.10/
 /
CALSCALE:GREGORIAN
METHOD:PUBLISH
UID:f4f60863-3dc3-42c0-b507-e2ba8d7de217
X-WR-CALDESC:
X-WR-RELCALID:b4cf8e683da705156822ae3fc1daa39b
X-WR-TIMEZONE:America/Anchorage
BEGIN:VTIMEZONE
TZID:America/Anchorage
BEGIN:STANDARD
TZNAME:AKST
DTSTART:20231105T020000
TZOFFSETFROM:-0800
TZOFFSETTO:-0900
RDATE:20241103T020000
RDATE:20251102T020000
END:STANDARD
BEGIN:DAYLIGHT
TZNAME:AKDT
DTSTART:20240310T020000
TZOFFSETFROM:-0900
TZOFFSETTO:-0800
RDATE:20250309T020000
END:DAYLIGHT
END:VTIMEZONE
BEGIN:VEVENT
UID:3f974709-5683-436e-85fa-031bcb6a0b16
DTSTAMP:20260425T002313Z
DESCRIPTION:
DTSTART;TZID=America/Anchorage:20240809T020000
DTEND;TZID=America/Anchorage:20240810T020001
LOCATION:
SUMMARY:Call to Vendors: Arts in the Cove Festival
END:VEVENT
END:VCALENDAR
