BEGIN:VCALENDAR
VERSION:2.0
PRODID:-//www.ketchikanarts.org//NONSGML kigkonsult.se iCalcreator 2.30.10/
 /
CALSCALE:GREGORIAN
METHOD:PUBLISH
UID:2a689980-a54f-417e-8492-e9b6975393e1
X-WR-CALDESC:
X-WR-RELCALID:5df875e8aa0f772038cb25e5e19a8cc0
X-WR-TIMEZONE:America/Anchorage
BEGIN:VTIMEZONE
TZID:America/Anchorage
BEGIN:STANDARD
TZNAME:AKST
DTSTART:20231105T020000
TZOFFSETFROM:-0800
TZOFFSETTO:-0900
RDATE:20241103T020000
RDATE:20251102T020000
END:STANDARD
BEGIN:DAYLIGHT
TZNAME:AKDT
DTSTART:20240310T020000
TZOFFSETFROM:-0900
TZOFFSETTO:-0800
RDATE:20250309T020000
END:DAYLIGHT
END:VTIMEZONE
BEGIN:VEVENT
UID:89770585-8e06-4caa-a59c-6e6e6a7c7c43
DTSTAMP:20260425T001900Z
DESCRIPTION:
DTSTART;TZID=America/Anchorage:20240809T020000
DTEND;TZID=America/Anchorage:20240810T020001
LOCATION:
SUMMARY:Call to Musicians - Coffman Cove
END:VEVENT
END:VCALENDAR
