BEGIN:VCALENDAR
VERSION:2.0
PRODID:-//www.ketchikanarts.org//NONSGML kigkonsult.se iCalcreator 2.30.10/
 /
CALSCALE:GREGORIAN
METHOD:PUBLISH
UID:02eedb71-0974-4cdb-abbb-4feafa4a66ba
X-WR-CALDESC:
X-WR-RELCALID:35237e918c6a98c78c8c1f3e234876ed
X-WR-TIMEZONE:America/Anchorage
BEGIN:VTIMEZONE
TZID:America/Anchorage
BEGIN:STANDARD
TZNAME:AKST
DTSTART:20231105T020000
TZOFFSETFROM:-0800
TZOFFSETTO:-0900
RDATE:20241103T020000
RDATE:20251102T020000
END:STANDARD
BEGIN:DAYLIGHT
TZNAME:AKDT
DTSTART:20240310T020000
TZOFFSETFROM:-0900
TZOFFSETTO:-0800
RDATE:20250309T020000
END:DAYLIGHT
END:VTIMEZONE
BEGIN:VEVENT
UID:c30eb42f-2220-4a87-82f6-2dcf5040c662
DTSTAMP:20260425T001743Z
DESCRIPTION:
DTSTART;TZID=America/Anchorage:20240806T120000
DTEND;TZID=America/Anchorage:20240806T130000
LOCATION:If sunny - Berth 2\, If raining - Berth 3 shelter
SUMMARY:Music on the Dock - Misty Sirens
END:VEVENT
END:VCALENDAR
