BEGIN:VCALENDAR
VERSION:2.0
PRODID:-//www.ketchikanarts.org//NONSGML kigkonsult.se iCalcreator 2.30.10/
 /
CALSCALE:GREGORIAN
METHOD:PUBLISH
UID:db1768ea-63c2-4691-b611-c0b67532d9a7
X-WR-CALDESC:The Gigglefeet Dance Festival is a collaborative program of Fi
 rst City Players\, Ketchikan Area Arts and Humanities Council\, and Ketchi
 kan Theatre Ballet. \n\nThis dance performance features local adults and y
 outh dancers and is a wonderful performance to experience! Tickets availab
 le at the link below.
X-WR-RELCALID:ebd582cfcb19d034107153df400f70a5
X-WR-TIMEZONE:America/Anchorage
BEGIN:VTIMEZONE
TZID:America/Anchorage
BEGIN:STANDARD
TZNAME:AKST
DTSTART:20231105T020000
TZOFFSETFROM:-0800
TZOFFSETTO:-0900
RDATE:20241103T020000
RDATE:20251102T020000
END:STANDARD
BEGIN:DAYLIGHT
TZNAME:AKDT
DTSTART:20240310T020000
TZOFFSETFROM:-0900
TZOFFSETTO:-0800
RDATE:20250309T020000
END:DAYLIGHT
END:VTIMEZONE
BEGIN:VEVENT
UID:373e1f48-69a9-4c2a-8e87-c46662768dee
DTSTAMP:20260425T001903Z
DESCRIPTION:The Gigglefeet Dance Festival is a collaborative program of Fir
 st City Players\, Ketchikan Area Arts and Humanities Council\, and Ketchik
 an Theatre Ballet. \n\nThis dance performance features local adults and yo
 uth dancers and is a wonderful performance to experience! Tickets availabl
 e at the link below.
DTSTART;TZID=America/Anchorage:20240804T190000
DTEND;TZID=America/Anchorage:20240804T210000
LOCATION:Kayhi Auditorium\, Ketchikan\, AK 99901 US
SUMMARY:Gigglefeet Dance Festival
END:VEVENT
END:VCALENDAR
