BEGIN:VCALENDAR
VERSION:2.0
PRODID:-//www.ketchikanarts.org//NONSGML kigkonsult.se iCalcreator 2.30.10/
 /
CALSCALE:GREGORIAN
METHOD:PUBLISH
UID:e9cf380f-8617-4085-8dec-1c9f3b3cf13a
X-WR-CALDESC:Enter your hand-made boat into the race! Whoever's vessel make
 s its way across the basin first wins!\n1:00 - Check in Starts\n2:00 - Rac
 e Begins\n\nSponsored by KPU Telecommunications
X-WR-RELCALID:2eabed5f0c8bc4ef9d14ba320eb2fea6
X-WR-TIMEZONE:America/Anchorage
BEGIN:VTIMEZONE
TZID:America/Anchorage
BEGIN:STANDARD
TZNAME:AKST
DTSTART:20231105T020000
TZOFFSETFROM:-0800
TZOFFSETTO:-0900
RDATE:20241103T020000
RDATE:20251102T020000
END:STANDARD
BEGIN:DAYLIGHT
TZNAME:AKDT
DTSTART:20240310T020000
TZOFFSETFROM:-0900
TZOFFSETTO:-0800
RDATE:20250309T020000
END:DAYLIGHT
END:VTIMEZONE
BEGIN:VEVENT
UID:5dc7ba97-f151-45a0-bd12-e2d2474a640b
DTSTAMP:20260425T002142Z
DESCRIPTION:Enter your hand-made boat into the race! Whoever's vessel makes
  its way across the basin first wins!\n1:00 - Check in Starts\n2:00 - Race
  Begins\n\nSponsored by KPU Telecommunications
DTSTART;TZID=America/Anchorage:20240804T130000
DTEND;TZID=America/Anchorage:20240804T150000
LOCATION:Thomas Basin\, Ketchikan\, AK 99901 US
SUMMARY:Blueberry Arts Festival: Human-Powered Boat Race!
END:VEVENT
END:VCALENDAR
