BEGIN:VCALENDAR
VERSION:2.0
PRODID:-//www.ketchikanarts.org//NONSGML kigkonsult.se iCalcreator 2.30.10/
 /
CALSCALE:GREGORIAN
METHOD:PUBLISH
UID:d92e8ee8-2435-4410-980c-a8cb72a7b35a
X-WR-CALDESC:33rd Annual Richard Brautigan\, Dick Whittaker\, Lillian Feren
 ce & Phoebe Newman Memorial Trout Fishing in America Slam.\nAll ages welco
 me to participate & attend.\nSponsored by Star Gallery\, Chinook and Compa
 ny\, Parnassus Books & Gifts\, and the New York Cafe
X-WR-RELCALID:322a870e6f63f60377bb7dfeb2a142f1
X-WR-TIMEZONE:America/Anchorage
BEGIN:VTIMEZONE
TZID:America/Anchorage
BEGIN:STANDARD
TZNAME:AKST
DTSTART:20231105T020000
TZOFFSETFROM:-0800
TZOFFSETTO:-0900
RDATE:20241103T020000
RDATE:20251102T020000
END:STANDARD
BEGIN:DAYLIGHT
TZNAME:AKDT
DTSTART:20240310T020000
TZOFFSETFROM:-0900
TZOFFSETTO:-0800
RDATE:20250309T020000
END:DAYLIGHT
END:VTIMEZONE
BEGIN:VEVENT
UID:242fc589-5eb2-4ab2-b7a7-85e070954c05
DTSTAMP:20260425T002419Z
DESCRIPTION:33rd Annual Richard Brautigan\, Dick Whittaker\, Lillian Ferenc
 e & Phoebe Newman Memorial Trout Fishing in America Slam.\nAll ages welcom
 e to participate & attend.\nSponsored by Star Gallery\, Chinook and Compan
 y\, Parnassus Books & Gifts\, and the New York Cafe
DTSTART;TZID=America/Anchorage:20240804T153000
DTEND;TZID=America/Anchorage:20240804T163000
LOCATION:New York Cafe\, Ketchikan\, AK 99901 US
SUMMARY:Blueberry Arts Festival: 33rd Annual Richard Brautigan\, Dick Whitt
 aker\, Lillian Ference & Phoebe Newman Memorial Trout Fishing in America P
 oetrySlam
END:VEVENT
END:VCALENDAR
