BEGIN:VCALENDAR
VERSION:2.0
PRODID:-//www.ketchikanarts.org//NONSGML kigkonsult.se iCalcreator 2.30.10/
 /
CALSCALE:GREGORIAN
METHOD:PUBLISH
UID:51aa394b-dff2-48ae-bb2f-fff53a722557
X-WR-CALDESC:Ages 12 & Under\nThe biggest slug wins! \n\nSponsored by Ketch
 ikan Ever Greens
X-WR-RELCALID:462e26efe0fdea9462cbedfa485e3e26
X-WR-TIMEZONE:America/Anchorage
BEGIN:VTIMEZONE
TZID:America/Anchorage
BEGIN:STANDARD
TZNAME:AKST
DTSTART:20231105T020000
TZOFFSETFROM:-0800
TZOFFSETTO:-0900
RDATE:20241103T020000
RDATE:20251102T020000
END:STANDARD
BEGIN:DAYLIGHT
TZNAME:AKDT
DTSTART:20240310T020000
TZOFFSETFROM:-0900
TZOFFSETTO:-0800
RDATE:20250309T020000
END:DAYLIGHT
END:VTIMEZONE
BEGIN:VEVENT
UID:6dae1cb2-17b0-4755-8f79-e0097baf711c
DTSTAMP:20260425T002341Z
DESCRIPTION:Ages 12 & Under\nThe biggest slug wins! \n\nSponsored by Ketchi
 kan Ever Greens
DTSTART;TZID=America/Anchorage:20240803T093000
DTEND;TZID=America/Anchorage:20240803T103000
LOCATION:Mission Street & Main Street\, Ketchikan\, AK 99901 US
SUMMARY:Blueberry Arts Festival: Slug Weigh In (Big Slug Contest)
END:VEVENT
END:VCALENDAR
