BEGIN:VCALENDAR
VERSION:2.0
PRODID:-//www.ketchikanarts.org//NONSGML kigkonsult.se iCalcreator 2.30.10/
 /
CALSCALE:GREGORIAN
METHOD:PUBLISH
UID:ec8e66ad-3b74-428d-a7a2-588512512e9d
X-WR-CALDESC:Ages 12 & Under\nThe FASTEST slug wins!\n\nSponsored by Ketchi
 kan Ever Greens
X-WR-RELCALID:545d1d97544c13492dd8efc7645e2b99
X-WR-TIMEZONE:America/Anchorage
BEGIN:VTIMEZONE
TZID:America/Anchorage
BEGIN:STANDARD
TZNAME:AKST
DTSTART:20231105T020000
TZOFFSETFROM:-0800
TZOFFSETTO:-0900
RDATE:20241103T020000
RDATE:20251102T020000
END:STANDARD
BEGIN:DAYLIGHT
TZNAME:AKDT
DTSTART:20240310T020000
TZOFFSETFROM:-0900
TZOFFSETTO:-0800
RDATE:20250309T020000
END:DAYLIGHT
END:VTIMEZONE
BEGIN:VEVENT
UID:42994e79-0eca-494a-acfa-94fe93ee51e2
DTSTAMP:20260425T002209Z
DESCRIPTION:Ages 12 & Under\nThe FASTEST slug wins!\n\nSponsored by Ketchik
 an Ever Greens
DTSTART;TZID=America/Anchorage:20240803T103000
DTEND;TZID=America/Anchorage:20240803T113000
LOCATION:Mission & Main Street\, Ketchikan\, AK 99901 US
SUMMARY:Blueberry Arts Festival: Slug Race!
END:VEVENT
END:VCALENDAR
