BEGIN:VCALENDAR
VERSION:2.0
PRODID:-//www.ketchikanarts.org//NONSGML kigkonsult.se iCalcreator 2.30.10/
 /
CALSCALE:GREGORIAN
METHOD:PUBLISH
UID:c38508d4-03d9-4b84-ab26-2b6cb56da0f3
X-WR-CALDESC:For all ages!\nRace will begin and end at Grant St and Main St
 .\nThis race is a partnership with the Ketchikan Running Club
X-WR-RELCALID:2de4071f238b2e2370cedafdd5e3353a
X-WR-TIMEZONE:America/Anchorage
BEGIN:VTIMEZONE
TZID:America/Anchorage
BEGIN:STANDARD
TZNAME:AKST
DTSTART:20231105T020000
TZOFFSETFROM:-0800
TZOFFSETTO:-0900
RDATE:20241103T020000
RDATE:20251102T020000
END:STANDARD
BEGIN:DAYLIGHT
TZNAME:AKDT
DTSTART:20240310T020000
TZOFFSETFROM:-0900
TZOFFSETTO:-0800
RDATE:20250309T020000
END:DAYLIGHT
END:VTIMEZONE
BEGIN:VEVENT
UID:25881b23-13c9-45bc-8905-f48e9b5028ef
DTSTAMP:20260425T002142Z
DESCRIPTION:For all ages!\nRace will begin and end at Grant St and Main St.
 \nThis race is a partnership with the Ketchikan Running Club
DTSTART;TZID=America/Anchorage:20240803T083000
DTEND;TZID=America/Anchorage:20240803T093000
LOCATION:Main Street & Grant Street\, Ketchikan\, AK 99901 US
SUMMARY:Blueberry Arts Festival: 1 Mile Fun Run/Walk
END:VEVENT
END:VCALENDAR
